BEGIN:VCALENDAR
VERSION:2.0
PRODID:-//Minnesota State Board of Law Examiners - ECPv6.15.20//NONSGML v1.0//EN
CALSCALE:GREGORIAN
METHOD:PUBLISH
X-ORIGINAL-URL:https://ble.mn.gov
X-WR-CALDESC:Events for Minnesota State Board of Law Examiners
REFRESH-INTERVAL;VALUE=DURATION:PT1H
X-Robots-Tag:noindex
X-PUBLISHED-TTL:PT1H
BEGIN:VTIMEZONE
TZID:UTC
BEGIN:STANDARD
TZOFFSETFROM:+0000
TZOFFSETTO:+0000
TZNAME:UTC
DTSTART:20180101T000000
END:STANDARD
END:VTIMEZONE
BEGIN:VEVENT
DTSTART;VALUE=DATE:20190703
DTEND;VALUE=DATE:20190704
DTSTAMP:20260425T072623
CREATED:20180906T004324Z
LAST-MODIFIED:20181102T200819Z
UID:1738-1562112000-1562198399@ble.mn.gov
SUMMARY:Office Hours 7/3/19 are 7:30 a.m. to 4:00 p.m.
DESCRIPTION:
URL:https://ble.mn.gov/event/office-hours-7-3-19/
END:VEVENT
BEGIN:VEVENT
DTSTART;VALUE=DATE:20190704
DTEND;VALUE=DATE:20190705
DTSTAMP:20260425T072623
CREATED:20181102T191706Z
LAST-MODIFIED:20181102T191706Z
UID:1885-1562198400-1562284799@ble.mn.gov
SUMMARY:Office closed
DESCRIPTION:
URL:https://ble.mn.gov/event/office-closed-24/
END:VEVENT
BEGIN:VEVENT
DTSTART;VALUE=DATE:20190730
DTEND;VALUE=DATE:20190731
DTSTAMP:20260425T072623
CREATED:20181102T013257Z
LAST-MODIFIED:20181102T013257Z
UID:1862-1564444800-1564531199@ble.mn.gov
SUMMARY:Bar Exam
DESCRIPTION:Bar exam. Visit the July 2019 Exam page for more details.
URL:https://ble.mn.gov/event/bar-exam-7/
END:VEVENT
BEGIN:VEVENT
DTSTART;VALUE=DATE:20190731
DTEND;VALUE=DATE:20190801
DTSTAMP:20260425T072623
CREATED:20181102T013329Z
LAST-MODIFIED:20181102T013329Z
UID:1864-1564531200-1564617599@ble.mn.gov
SUMMARY:Bar Exam
DESCRIPTION:Bar exam. Visit the July 2019 Exam page for more details.
URL:https://ble.mn.gov/event/bar-exam-8/
END:VEVENT
END:VCALENDAR