BEGIN:VCALENDAR
VERSION:2.0
PRODID:-//Minnesota State Board of Law Examiners - ECPv6.15.20//NONSGML v1.0//EN
CALSCALE:GREGORIAN
METHOD:PUBLISH
X-ORIGINAL-URL:https://ble.mn.gov
X-WR-CALDESC:Events for Minnesota State Board of Law Examiners
REFRESH-INTERVAL;VALUE=DURATION:PT1H
X-Robots-Tag:noindex
X-PUBLISHED-TTL:PT1H
BEGIN:VTIMEZONE
TZID:UTC
BEGIN:STANDARD
TZOFFSETFROM:+0000
TZOFFSETTO:+0000
TZNAME:UTC
DTSTART:20170101T000000
END:STANDARD
END:VTIMEZONE
BEGIN:VEVENT
DTSTART;VALUE=DATE:20180315
DTEND;VALUE=DATE:20180316
DTSTAMP:20260425T150215
CREATED:20171012T180136Z
LAST-MODIFIED:20171012T180136Z
UID:1326-1521072000-1521158399@ble.mn.gov
SUMMARY:Board of Law Examiners public meeting
DESCRIPTION:Board meeting to be held in Board office on 3/15/18. Time TBD. Visit the Board Information page for more details.
URL:https://ble.mn.gov/event/board-of-law-examiners-public-meeting-23/
END:VEVENT
BEGIN:VEVENT
DTSTART;VALUE=DATE:20180315
DTEND;VALUE=DATE:20180316
DTSTAMP:20260425T150215
CREATED:20171012T180543Z
LAST-MODIFIED:20171012T180543Z
UID:1330-1521072000-1521158399@ble.mn.gov
SUMMARY:July 2018 Bar Exam Application Timely Filing Deadline
DESCRIPTION:The July 2018 bar exam timely filing deadline is 3/15/18 (postmarks are accepted).
URL:https://ble.mn.gov/event/july-2018-bar-exam-application-timely-filing-deadline/
END:VEVENT
END:VCALENDAR