BEGIN:VCALENDAR
VERSION:2.0
PRODID:-//Minnesota State Board of Law Examiners - ECPv6.15.20//NONSGML v1.0//EN
CALSCALE:GREGORIAN
METHOD:PUBLISH
X-ORIGINAL-URL:https://ble.mn.gov
X-WR-CALDESC:Events for Minnesota State Board of Law Examiners
REFRESH-INTERVAL;VALUE=DURATION:PT1H
X-Robots-Tag:noindex
X-PUBLISHED-TTL:PT1H
BEGIN:VTIMEZONE
TZID:UTC
BEGIN:STANDARD
TZOFFSETFROM:+0000
TZOFFSETTO:+0000
TZNAME:UTC
DTSTART:20170101T000000
END:STANDARD
END:VTIMEZONE
BEGIN:VEVENT
DTSTART;VALUE=DATE:20180219
DTEND;VALUE=DATE:20180220
DTSTAMP:20260425T051721
CREATED:20171012T182345Z
LAST-MODIFIED:20171012T182345Z
UID:1357-1518998400-1519084799@ble.mn.gov
SUMMARY:Office closed
DESCRIPTION:
URL:https://ble.mn.gov/event/office-closed-13/
END:VEVENT
BEGIN:VEVENT
DTSTART;VALUE=DATE:20180227
DTEND;VALUE=DATE:20180301
DTSTAMP:20260425T051721
CREATED:20171012T180324Z
LAST-MODIFIED:20171012T180324Z
UID:1328-1519689600-1519862399@ble.mn.gov
SUMMARY:Bar Exam
DESCRIPTION:Bar exam. Visit the February 2018 Exam page for more details.
URL:https://ble.mn.gov/event/bar-exam-3/
END:VEVENT
END:VCALENDAR