BEGIN:VCALENDAR
VERSION:2.0
PRODID:-//Minnesota State Board of Law Examiners - ECPv6.15.20//NONSGML v1.0//EN
CALSCALE:GREGORIAN
METHOD:PUBLISH
X-ORIGINAL-URL:https://ble.mn.gov
X-WR-CALDESC:Events for Minnesota State Board of Law Examiners
REFRESH-INTERVAL;VALUE=DURATION:PT1H
X-Robots-Tag:noindex
X-PUBLISHED-TTL:PT1H
BEGIN:VTIMEZONE
TZID:UTC
BEGIN:STANDARD
TZOFFSETFROM:+0000
TZOFFSETTO:+0000
TZNAME:UTC
DTSTART:20160101T000000
END:STANDARD
END:VTIMEZONE
BEGIN:VEVENT
DTSTART;VALUE=DATE:20170102
DTEND;VALUE=DATE:20170103
DTSTAMP:20260425T131651
CREATED:20161011T171453Z
LAST-MODIFIED:20161011T171453Z
UID:902-1483315200-1483401599@ble.mn.gov
SUMMARY:Office closed
DESCRIPTION:
URL:https://ble.mn.gov/event/office-closed-2/
END:VEVENT
BEGIN:VEVENT
DTSTART;VALUE=DATE:20170113
DTEND;VALUE=DATE:20170114
DTSTAMP:20260425T131651
CREATED:20161026T211604Z
LAST-MODIFIED:20161026T211604Z
UID:933-1484265600-1484351999@ble.mn.gov
SUMMARY:Board of Law Examiners public meeting
DESCRIPTION:Board meeting to be held in Board office on 1/13/2017. Time TBD. Visit the Board Information page for more details.
URL:https://ble.mn.gov/event/board-of-law-examiners-public-meeting-9/
END:VEVENT
BEGIN:VEVENT
DTSTART;VALUE=DATE:20170113
DTEND;VALUE=DATE:20170114
DTSTAMP:20260425T131651
CREATED:20161222T004423Z
LAST-MODIFIED:20161222T004423Z
UID:1011-1484265600-1484351999@ble.mn.gov
SUMMARY:Board of Law Examiners public meeting
DESCRIPTION:Board meeting to be held in Board office on 1/13/17. Time TBD. Visit the Board Information page for more details.
URL:https://ble.mn.gov/event/board-of-law-examiners-public-meeting-18/
END:VEVENT
BEGIN:VEVENT
DTSTART;VALUE=DATE:20170116
DTEND;VALUE=DATE:20170117
DTSTAMP:20260425T131651
CREATED:20161222T010036Z
LAST-MODIFIED:20161222T010036Z
UID:1021-1484524800-1484611199@ble.mn.gov
SUMMARY:Office closed
DESCRIPTION:
URL:https://ble.mn.gov/event/office-closed-3/
END:VEVENT
END:VCALENDAR