BEGIN:VCALENDAR
VERSION:2.0
PRODID:-//Minnesota State Board of Law Examiners - ECPv6.15.20//NONSGML v1.0//EN
CALSCALE:GREGORIAN
METHOD:PUBLISH
X-ORIGINAL-URL:https://ble.mn.gov
X-WR-CALDESC:Events for Minnesota State Board of Law Examiners
REFRESH-INTERVAL;VALUE=DURATION:PT1H
X-Robots-Tag:noindex
X-PUBLISHED-TTL:PT1H
BEGIN:VTIMEZONE
TZID:UTC
BEGIN:STANDARD
TZOFFSETFROM:+0000
TZOFFSETTO:+0000
TZNAME:UTC
DTSTART:20150101T000000
END:STANDARD
END:VTIMEZONE
BEGIN:VEVENT
DTSTART;VALUE=DATE:20161201
DTEND;VALUE=DATE:20161202
DTSTAMP:20260425T162306
CREATED:20160318T034948Z
LAST-MODIFIED:20160318T034948Z
UID:593-1480550400-1480636799@ble.mn.gov
SUMMARY:February 2017 Bar Exam Application Late Filing Deadline
DESCRIPTION:February 2017 bar exam late filing deadline (postmarks are accepted)
URL:https://ble.mn.gov/event/february-2017-bar-exam-application-late-filing-deadline/
END:VEVENT
BEGIN:VEVENT
DTSTART;VALUE=DATE:20161209
DTEND;VALUE=DATE:20161210
DTSTAMP:20260425T162306
CREATED:20160318T035044Z
LAST-MODIFIED:20161026T211155Z
UID:594-1481241600-1481327999@ble.mn.gov
SUMMARY:Board of Law Examiners Public Meeting
DESCRIPTION:Board meeting to be held in Board office on 10/7/2016. Time TBD. Visit the Board Information page for more details.
URL:https://ble.mn.gov/event/board-of-law-examiners-public-meeting-8/
END:VEVENT
BEGIN:VEVENT
DTSTART;VALUE=DATE:20161226
DTEND;VALUE=DATE:20161227
DTSTAMP:20260425T162306
CREATED:20161011T171414Z
LAST-MODIFIED:20161011T171414Z
UID:901-1482710400-1482796799@ble.mn.gov
SUMMARY:Office closed
DESCRIPTION:
URL:https://ble.mn.gov/event/office-closed/
END:VEVENT
END:VCALENDAR