BEGIN:VCALENDAR
VERSION:2.0
PRODID:-//Minnesota State Board of Law Examiners - ECPv6.15.20//NONSGML v1.0//EN
CALSCALE:GREGORIAN
METHOD:PUBLISH
X-ORIGINAL-URL:https://ble.mn.gov
X-WR-CALDESC:Events for Minnesota State Board of Law Examiners
REFRESH-INTERVAL;VALUE=DURATION:PT1H
X-Robots-Tag:noindex
X-PUBLISHED-TTL:PT1H
BEGIN:VTIMEZONE
TZID:UTC
BEGIN:STANDARD
TZOFFSETFROM:+0000
TZOFFSETTO:+0000
TZNAME:UTC
DTSTART:20160101T000000
END:STANDARD
END:VTIMEZONE
BEGIN:VEVENT
DTSTART;VALUE=DATE:20171225
DTEND;VALUE=DATE:20171226
DTSTAMP:20260425T192637
CREATED:20161222T011009Z
LAST-MODIFIED:20161222T011009Z
UID:1031-1514160000-1514246399@ble.mn.gov
SUMMARY:Office closed
DESCRIPTION:
URL:https://ble.mn.gov/event/office-closed-10/
END:VEVENT
BEGIN:VEVENT
DTSTART;VALUE=DATE:20171208
DTEND;VALUE=DATE:20171209
DTSTAMP:20260425T192637
CREATED:20161026T232938Z
LAST-MODIFIED:20171109T012316Z
UID:941-1512691200-1512777599@ble.mn.gov
SUMMARY:Board of Law Examiners public meeting
DESCRIPTION:Board meeting to be held in Board office on 12/8/17 at 8:30 a.m. Visit the Board Information page for more details.
URL:https://ble.mn.gov/event/board-of-law-examiners-public-meeting-17/
END:VEVENT
BEGIN:VEVENT
DTSTART;VALUE=DATE:20171201
DTEND;VALUE=DATE:20171202
DTSTAMP:20260425T192637
CREATED:20161222T005241Z
LAST-MODIFIED:20161222T005241Z
UID:1019-1512086400-1512172799@ble.mn.gov
SUMMARY:Feb 2018 Bar Exam Application Late Filing Deadline
DESCRIPTION:The February 2018 bar exam late filing deadline is 12/1/17 (postmarks are accepted).
URL:https://ble.mn.gov/event/feb-2018-bar-exam-application-late-filing-deadline/
END:VEVENT
BEGIN:VEVENT
DTSTART;VALUE=DATE:20171123
DTEND;VALUE=DATE:20171125
DTSTAMP:20260425T192637
CREATED:20161222T010909Z
LAST-MODIFIED:20161222T010909Z
UID:1030-1511395200-1511567999@ble.mn.gov
SUMMARY:Office closed
DESCRIPTION:
URL:https://ble.mn.gov/event/office-closed-9/
END:VEVENT
BEGIN:VEVENT
DTSTART;VALUE=DATE:20171122
DTEND;VALUE=DATE:20171123
DTSTAMP:20260425T192637
CREATED:20161222T010844Z
LAST-MODIFIED:20161222T010844Z
UID:1029-1511308800-1511395199@ble.mn.gov
SUMMARY:Office hours 11/22/17 are 7:30 a.m. - 4:00 p.m.
DESCRIPTION:
URL:https://ble.mn.gov/event/office-hours-112217-are-730-a-m-400-p-m/
END:VEVENT
BEGIN:VEVENT
DTSTART;VALUE=DATE:20171110
DTEND;VALUE=DATE:20171111
DTSTAMP:20260425T192637
CREATED:20161222T010626Z
LAST-MODIFIED:20161222T010626Z
UID:1027-1510272000-1510358399@ble.mn.gov
SUMMARY:Office closed
DESCRIPTION:
URL:https://ble.mn.gov/event/office-closed-8/
END:VEVENT
BEGIN:VEVENT
DTSTART;VALUE=DATE:20171109
DTEND;VALUE=DATE:20171110
DTSTAMP:20260425T192637
CREATED:20161222T010722Z
LAST-MODIFIED:20161222T010722Z
UID:1028-1510185600-1510271999@ble.mn.gov
SUMMARY:Office hours 11/9/17 are 7:30 a.m. - 4:00 p.m.
DESCRIPTION:
URL:https://ble.mn.gov/event/office-hours-11917-are-730-a-m-400-p-m/
END:VEVENT
BEGIN:VEVENT
DTSTART;VALUE=DATE:20171108
DTEND;VALUE=DATE:20171109
DTSTAMP:20260425T192637
CREATED:20161026T232849Z
LAST-MODIFIED:20171007T010026Z
UID:940-1510099200-1510185599@ble.mn.gov
SUMMARY:Board of Law Examiners public meeting
DESCRIPTION:Board meeting to be held in Board office on 11/8/17 at 8:00 a.m. Visit the Board Information page for more details.
URL:https://ble.mn.gov/event/board-of-law-examiners-public-meeting-16/
END:VEVENT
BEGIN:VEVENT
DTSTART;VALUE=DATE:20171027
DTEND;VALUE=DATE:20171028
DTSTAMP:20260425T192637
CREATED:20161222T004839Z
LAST-MODIFIED:20161222T004839Z
UID:1016-1509062400-1509148799@ble.mn.gov
SUMMARY:July 2017 Bar Exam Admission Ceremony – for those who sat and were successful on the July 2017 bar exam
DESCRIPTION:Click here for more information.
URL:https://ble.mn.gov/event/july-2017-bar-exam-admission-ceremony-for-those-who-sat-and-were-successful-on-the-july-2017-bar-exam/
END:VEVENT
BEGIN:VEVENT
DTSTART;VALUE=DATE:20171016
DTEND;VALUE=DATE:20171017
DTSTAMP:20260425T192637
CREATED:20161222T005346Z
LAST-MODIFIED:20161222T005346Z
UID:1020-1508112000-1508198399@ble.mn.gov
SUMMARY:February 2018 Bar Exam Application Timely Filing Deadline
DESCRIPTION:The February 2018 bar exam timely filing deadline is 10/16/17 (postmarks are accepted).
URL:https://ble.mn.gov/event/february-2018-bar-exam-application-timely-filing-deadline/
END:VEVENT
BEGIN:VEVENT
DTSTART;VALUE=DATE:20171006
DTEND;VALUE=DATE:20171007
DTSTAMP:20260425T192637
CREATED:20161026T212645Z
LAST-MODIFIED:20170927T180231Z
UID:939-1507248000-1507334399@ble.mn.gov
SUMMARY:Board of Law Examiners public meeting
DESCRIPTION:Board meeting to be held in Board office on 10/6/17 at 8:30 a.m. Visit the Board Information page for more details.
URL:https://ble.mn.gov/event/board-of-law-examiners-public-meeting-15/
END:VEVENT
BEGIN:VEVENT
DTSTART;VALUE=DATE:20170904
DTEND;VALUE=DATE:20170905
DTSTAMP:20260425T192637
CREATED:20161222T010530Z
LAST-MODIFIED:20161222T010530Z
UID:1026-1504483200-1504569599@ble.mn.gov
SUMMARY:Office closed
DESCRIPTION:
URL:https://ble.mn.gov/event/office-closed-7/
END:VEVENT
BEGIN:VEVENT
DTSTART;VALUE=DATE:20170823
DTEND;VALUE=DATE:20170824
DTSTAMP:20260425T192637
CREATED:20161026T211858Z
LAST-MODIFIED:20161026T211858Z
UID:938-1503446400-1503532799@ble.mn.gov
SUMMARY:Board of Law Examiners public meeting
DESCRIPTION:Board meeting to be held in Board office on 8/23/17. Time TBD. Visit the Board Information page for more details.
URL:https://ble.mn.gov/event/board-of-law-examiners-public-meeting-14/
END:VEVENT
BEGIN:VEVENT
DTSTART;VALUE=DATE:20170704
DTEND;VALUE=DATE:20170705
DTSTAMP:20260425T192637
CREATED:20161222T010321Z
LAST-MODIFIED:20161222T010321Z
UID:1024-1499126400-1499212799@ble.mn.gov
SUMMARY:Office closed
DESCRIPTION:
URL:https://ble.mn.gov/event/office-closed-6/
END:VEVENT
BEGIN:VEVENT
DTSTART;VALUE=DATE:20170703
DTEND;VALUE=DATE:20170704
DTSTAMP:20260425T192637
CREATED:20161222T010435Z
LAST-MODIFIED:20161222T010435Z
UID:1025-1499040000-1499126399@ble.mn.gov
SUMMARY:Office hours 7/3/17 are 7:30 a.m. - 4:00 p.m.
DESCRIPTION:
URL:https://ble.mn.gov/event/office-hours-7317-are-730-a-m-400-p-m/
END:VEVENT
BEGIN:VEVENT
DTSTART;VALUE=DATE:20170617
DTEND;VALUE=DATE:20170618
DTSTAMP:20260425T192637
CREATED:20161026T211827Z
LAST-MODIFIED:20161026T211827Z
UID:937-1497657600-1497743999@ble.mn.gov
SUMMARY:Board of Law Examiners public meeting
DESCRIPTION:Board meeting to be held in Board office on 6/16/17. Time TBD. Visit the Board Information page for more details.
URL:https://ble.mn.gov/event/board-of-law-examiners-public-meeting-13/
END:VEVENT
BEGIN:VEVENT
DTSTART;VALUE=DATE:20170529
DTEND;VALUE=DATE:20170530
DTSTAMP:20260425T192637
CREATED:20161222T010216Z
LAST-MODIFIED:20161222T010216Z
UID:1023-1496016000-1496102399@ble.mn.gov
SUMMARY:Office closed
DESCRIPTION:
URL:https://ble.mn.gov/event/office-closed-5/
END:VEVENT
BEGIN:VEVENT
DTSTART;VALUE=DATE:20170519
DTEND;VALUE=DATE:20170520
DTSTAMP:20260425T192637
CREATED:20161222T004551Z
LAST-MODIFIED:20161222T004551Z
UID:1014-1495152000-1495238399@ble.mn.gov
SUMMARY:Board of Law Examiners public meeting
DESCRIPTION:Board meeting to be held in Board office on 5/19/17. Time TBD. Visit the Board Information page for more details.
URL:https://ble.mn.gov/event/board-of-law-examiners-public-meeting-21/
END:VEVENT
BEGIN:VEVENT
DTSTART;VALUE=DATE:20170519
DTEND;VALUE=DATE:20170520
DTSTAMP:20260425T192637
CREATED:20161026T211753Z
LAST-MODIFIED:20170515T183352Z
UID:936-1495152000-1495238399@ble.mn.gov
SUMMARY:Board of Law Examiners public meeting
DESCRIPTION:Board meeting to be held in Board office on 5/19/17 at 8:30 a.m. Visit the Board Information page for more details.
URL:https://ble.mn.gov/event/board-of-law-examiners-public-meeting-12/
END:VEVENT
BEGIN:VEVENT
DTSTART;VALUE=DATE:20170505
DTEND;VALUE=DATE:20170506
DTSTAMP:20260425T192637
CREATED:20161222T004758Z
LAST-MODIFIED:20161222T004758Z
UID:1015-1493942400-1494028799@ble.mn.gov
SUMMARY:Feb 2017 Bar Exam Admission Ceremony – for those who sat and were successful on the Feb 2017 bar exam
DESCRIPTION:Click here for more information.
URL:https://ble.mn.gov/event/feb-2017-bar-exam-admission-ceremony-for-those-who-sat-and-were-successful-on-the-feb-2017-bar-exam/
END:VEVENT
BEGIN:VEVENT
DTSTART;VALUE=DATE:20170501
DTEND;VALUE=DATE:20170502
DTSTAMP:20260425T192637
CREATED:20161222T005149Z
LAST-MODIFIED:20161222T005149Z
UID:1018-1493596800-1493683199@ble.mn.gov
SUMMARY:July 2017 Bar Exam Application Late Filing Deadline
DESCRIPTION:The July 2017 bar exam late filing deadline is on 5/1/17 (postmarks are accepted).
URL:https://ble.mn.gov/event/july-2017-bar-exam-application-late-filing-deadline/
END:VEVENT
BEGIN:VEVENT
DTSTART;VALUE=DATE:20170413
DTEND;VALUE=DATE:20170414
DTSTAMP:20260425T192637
CREATED:20161222T004528Z
LAST-MODIFIED:20161222T004528Z
UID:1013-1492041600-1492127999@ble.mn.gov
SUMMARY:Board of Law Examiners public meeting
DESCRIPTION:Board meeting to be held in Board office on 4/13/17. Time TBD. Visit the Board Information page for more details.
URL:https://ble.mn.gov/event/board-of-law-examiners-public-meeting-20/
END:VEVENT
BEGIN:VEVENT
DTSTART;VALUE=DATE:20170413
DTEND;VALUE=DATE:20170414
DTSTAMP:20260425T192637
CREATED:20161026T211720Z
LAST-MODIFIED:20161026T211720Z
UID:935-1492041600-1492127999@ble.mn.gov
SUMMARY:Board of Law Examiners public meeting
DESCRIPTION:Board meeting to be held in Board office on 4/13/17. Time TBD. Visit the Board Information page for more details.
URL:https://ble.mn.gov/event/board-of-law-examiners-public-meeting-11/
END:VEVENT
BEGIN:VEVENT
DTSTART;VALUE=DATE:20170317
DTEND;VALUE=DATE:20170318
DTSTAMP:20260425T192637
CREATED:20161222T004454Z
LAST-MODIFIED:20161222T004454Z
UID:1012-1489708800-1489795199@ble.mn.gov
SUMMARY:Board of Law Examiners public meeting
DESCRIPTION:Board meeting to be held in Board office on 3/17/17. Time TBD. Visit the Board Information page for more details.
URL:https://ble.mn.gov/event/board-of-law-examiners-public-meeting-19/
END:VEVENT
BEGIN:VEVENT
DTSTART;VALUE=DATE:20170317
DTEND;VALUE=DATE:20170318
DTSTAMP:20260425T192637
CREATED:20161026T211640Z
LAST-MODIFIED:20161026T211640Z
UID:934-1489708800-1489795199@ble.mn.gov
SUMMARY:Board of Law Examiners public meeting
DESCRIPTION:Board meeting to be held in Board office on 3/17/17. Time TBD. Visit the Board Information page for more details.
URL:https://ble.mn.gov/event/board-of-law-examiners-public-meeting-10/
END:VEVENT
BEGIN:VEVENT
DTSTART;VALUE=DATE:20170315
DTEND;VALUE=DATE:20170316
DTSTAMP:20260425T192637
CREATED:20161222T005052Z
LAST-MODIFIED:20161222T005052Z
UID:1017-1489536000-1489622399@ble.mn.gov
SUMMARY:July 2017 Bar Exam Application Timely Filing Deadline
DESCRIPTION:The July 2017 bar exam timely filing deadline is on March 15\, 2017 (postmarks are accepted).
URL:https://ble.mn.gov/event/july-2017-bar-exam-application-timely-filing-deadline/
END:VEVENT
BEGIN:VEVENT
DTSTART;VALUE=DATE:20170221
DTEND;VALUE=DATE:20170223
DTSTAMP:20260425T192637
CREATED:20161026T233138Z
LAST-MODIFIED:20161026T233138Z
UID:943-1487635200-1487807999@ble.mn.gov
SUMMARY:February 2017 Bar Exam
DESCRIPTION:Visit the February 2017 Bar Exam page for more information.
URL:https://ble.mn.gov/event/february-2017-bar-exam/
END:VEVENT
BEGIN:VEVENT
DTSTART;VALUE=DATE:20170220
DTEND;VALUE=DATE:20170221
DTSTAMP:20260425T192637
CREATED:20161222T010126Z
LAST-MODIFIED:20161222T010126Z
UID:1022-1487548800-1487635199@ble.mn.gov
SUMMARY:Office closed
DESCRIPTION:
URL:https://ble.mn.gov/event/office-closed-4/
END:VEVENT
BEGIN:VEVENT
DTSTART;VALUE=DATE:20170116
DTEND;VALUE=DATE:20170117
DTSTAMP:20260425T192637
CREATED:20161222T010036Z
LAST-MODIFIED:20161222T010036Z
UID:1021-1484524800-1484611199@ble.mn.gov
SUMMARY:Office closed
DESCRIPTION:
URL:https://ble.mn.gov/event/office-closed-3/
END:VEVENT
BEGIN:VEVENT
DTSTART;VALUE=DATE:20170113
DTEND;VALUE=DATE:20170114
DTSTAMP:20260425T192637
CREATED:20161222T004423Z
LAST-MODIFIED:20161222T004423Z
UID:1011-1484265600-1484351999@ble.mn.gov
SUMMARY:Board of Law Examiners public meeting
DESCRIPTION:Board meeting to be held in Board office on 1/13/17. Time TBD. Visit the Board Information page for more details.
URL:https://ble.mn.gov/event/board-of-law-examiners-public-meeting-18/
END:VEVENT
END:VCALENDAR