BEGIN:VCALENDAR
VERSION:2.0
PRODID:-//Minnesota State Board of Law Examiners - ECPv6.15.20//NONSGML v1.0//EN
CALSCALE:GREGORIAN
METHOD:PUBLISH
X-ORIGINAL-URL:https://ble.mn.gov
X-WR-CALDESC:Events for Minnesota State Board of Law Examiners
REFRESH-INTERVAL;VALUE=DURATION:PT1H
X-Robots-Tag:noindex
X-PUBLISHED-TTL:PT1H
BEGIN:VTIMEZONE
TZID:America/Chicago
BEGIN:DAYLIGHT
TZOFFSETFROM:-0600
TZOFFSETTO:-0500
TZNAME:CDT
DTSTART:20180311T080000
END:DAYLIGHT
BEGIN:STANDARD
TZOFFSETFROM:-0500
TZOFFSETTO:-0600
TZNAME:CST
DTSTART:20181104T070000
END:STANDARD
BEGIN:DAYLIGHT
TZOFFSETFROM:-0600
TZOFFSETTO:-0500
TZNAME:CDT
DTSTART:20190310T080000
END:DAYLIGHT
BEGIN:STANDARD
TZOFFSETFROM:-0500
TZOFFSETTO:-0600
TZNAME:CST
DTSTART:20191103T070000
END:STANDARD
BEGIN:DAYLIGHT
TZOFFSETFROM:-0600
TZOFFSETTO:-0500
TZNAME:CDT
DTSTART:20200308T080000
END:DAYLIGHT
BEGIN:STANDARD
TZOFFSETFROM:-0500
TZOFFSETTO:-0600
TZNAME:CST
DTSTART:20201101T070000
END:STANDARD
BEGIN:DAYLIGHT
TZOFFSETFROM:-0600
TZOFFSETTO:-0500
TZNAME:CDT
DTSTART:20210314T080000
END:DAYLIGHT
BEGIN:STANDARD
TZOFFSETFROM:-0500
TZOFFSETTO:-0600
TZNAME:CST
DTSTART:20211107T070000
END:STANDARD
END:VTIMEZONE
BEGIN:VTIMEZONE
TZID:UTC
BEGIN:STANDARD
TZOFFSETFROM:+0000
TZOFFSETTO:+0000
TZNAME:UTC
DTSTART:20180101T000000
END:STANDARD
END:VTIMEZONE
BEGIN:VEVENT
DTSTART;VALUE=DATE:20200619
DTEND;VALUE=DATE:20200620
DTSTAMP:20260419T181923
CREATED:20190906T144207Z
LAST-MODIFIED:20200611T154359Z
UID:2337-1592524800-1592611199@ble.mn.gov
SUMMARY:Board of Law Examiners public meeting
DESCRIPTION:Board meeting to be held in Board office on 6/19/20 at 8:00 AM. Visit the Board Information page for more details.
URL:https://ble.mn.gov/event/board-of-law-examiners-public-meeting-44/
END:VEVENT
BEGIN:VEVENT
DTSTART;VALUE=DATE:20200525
DTEND;VALUE=DATE:20200526
DTSTAMP:20260419T181923
CREATED:20190906T135844Z
LAST-MODIFIED:20190906T135844Z
UID:2303-1590364800-1590451199@ble.mn.gov
SUMMARY:Office closed
DESCRIPTION:
URL:https://ble.mn.gov/event/office-closed-32/
END:VEVENT
BEGIN:VEVENT
DTSTART;VALUE=DATE:20200515
DTEND;VALUE=DATE:20200516
DTSTAMP:20260419T181923
CREATED:20190906T144133Z
LAST-MODIFIED:20200511T185312Z
UID:2335-1589500800-1589587199@ble.mn.gov
SUMMARY:Board of Law Examiners public meeting
DESCRIPTION:Board meeting to be held in Board office on 5/15/20 at 11:00a.m.. Visit the Board Information page for more details.
URL:https://ble.mn.gov/event/board-of-law-examiners-public-meeting-43/
END:VEVENT
BEGIN:VEVENT
DTSTART;VALUE=DATE:20200508
DTEND;VALUE=DATE:20200509
DTSTAMP:20260419T181923
CREATED:20190906T151221Z
LAST-MODIFIED:20190906T151221Z
UID:2360-1588896000-1588982399@ble.mn.gov
SUMMARY:February 2020 Bar Exam Admission Ceremony – for those who sat and were successful on the February 2020 Bar Exam
DESCRIPTION:Visit the Bar Admission Ceremony page for details.
URL:https://ble.mn.gov/event/february-2020-bar-exam-admission-ceremony-for-those-who-sat-and-were-successful-on-the-february-2020-bar-exam/
END:VEVENT
BEGIN:VEVENT
DTSTART;VALUE=DATE:20200501
DTEND;VALUE=DATE:20200502
DTSTAMP:20260419T181923
CREATED:20190906T152537Z
LAST-MODIFIED:20200421T153327Z
UID:2371-1588291200-1588377599@ble.mn.gov
SUMMARY:July 2020 Bar Exam Application Late Filing Deadline
DESCRIPTION:The July 2020 late filing deadline for the bar examination is May 1\, 2020 (postmarks are accepted). In light of Emergency Executive Order 20-33 Extending the Stay at Home Order through May 3\, 2020\, the Board agreed to extend the filing deadline to May 8\, 2020. If an applicant intends to file between May 2 and May 8\, 2020 then by May 1\, 2020 at 4:30 P.M.\, the applicant must submit a statement of intent to file to ble@mbcle.state.mn.us. This statement of intent is not needed if your application materials are postmarked by May 1\, 2020. Questions related to this should be sent to the Board office at ble@mbcle.state.mn.us.
URL:https://ble.mn.gov/event/july-2020-bar-exam-application-late-filing-deadline/
END:VEVENT
BEGIN:VEVENT
DTSTART;VALUE=DATE:20200417
DTEND;VALUE=DATE:20200418
DTSTAMP:20260419T181923
CREATED:20190906T144052Z
LAST-MODIFIED:20200409T150013Z
UID:2333-1587081600-1587167999@ble.mn.gov
SUMMARY:Board of Law Examiners public meeting
DESCRIPTION:As of March 23\, 2020\, the office of the Board of Law Examiners is closed to the public. Please contact the Board office for more information if you plan to attend. \nBoard meeting to be held in Board office on 4/17/20 at 8:30 a.m.. Visit the Board Information page for more details.
URL:https://ble.mn.gov/event/board-of-law-examiners-public-meeting-42/
END:VEVENT
BEGIN:VEVENT
DTSTART;VALUE=DATE:20200320
DTEND;VALUE=DATE:20200321
DTSTAMP:20260419T181923
CREATED:20190906T144000Z
LAST-MODIFIED:20200318T133226Z
UID:2331-1584662400-1584748799@ble.mn.gov
SUMMARY:Board of Law Examiners public meeting
DESCRIPTION:Board meeting to be held in Board office on 3/20/20 at 8:00a.m.. Due to COVID-19\, non-essential visits to the Board are discouraged. Please contact the Board office for more information if you plan to attend. Visit the Board Information page for more details.
URL:https://ble.mn.gov/event/board-of-law-examiners-public-meeting-41/
END:VEVENT
BEGIN:VEVENT
DTSTART;VALUE=DATE:20200316
DTEND;VALUE=DATE:20200317
DTSTAMP:20260419T181923
CREATED:20190906T152420Z
LAST-MODIFIED:20190906T152427Z
UID:2368-1584316800-1584403199@ble.mn.gov
SUMMARY:July 2020 Bar Exam Application Timely Filing Deadline
DESCRIPTION:The July 2020 bar exam timely filing deadline is 3/16/20 (postmarks are accepted).
URL:https://ble.mn.gov/event/july-2019-bar-exam-application-timely-filing-deadline-2/
END:VEVENT
BEGIN:VEVENT
DTSTART;VALUE=DATE:20200226
DTEND;VALUE=DATE:20200227
DTSTAMP:20260419T181923
CREATED:20190906T150317Z
LAST-MODIFIED:20190906T150317Z
UID:2350-1582675200-1582761599@ble.mn.gov
SUMMARY:Bar Exam
DESCRIPTION:Bar exam. Visit the February 2020 Exam page for more details.
URL:https://ble.mn.gov/event/bar-exam-10/
END:VEVENT
BEGIN:VEVENT
DTSTART;VALUE=DATE:20200225
DTEND;VALUE=DATE:20200226
DTSTAMP:20260419T181923
CREATED:20190906T150237Z
LAST-MODIFIED:20190906T150237Z
UID:2347-1582588800-1582675199@ble.mn.gov
SUMMARY:Bar Exam
DESCRIPTION:Bar exam. Visit the February 2020 Exam page for more details.
URL:https://ble.mn.gov/event/bar-exam-9/
END:VEVENT
BEGIN:VEVENT
DTSTART;VALUE=DATE:20200217
DTEND;VALUE=DATE:20200218
DTSTAMP:20260419T181923
CREATED:20190906T135754Z
LAST-MODIFIED:20190906T135754Z
UID:2301-1581897600-1581983999@ble.mn.gov
SUMMARY:Office closed
DESCRIPTION:
URL:https://ble.mn.gov/event/office-closed-31/
END:VEVENT
BEGIN:VEVENT
DTSTART;VALUE=DATE:20200124
DTEND;VALUE=DATE:20200125
DTSTAMP:20260419T181923
CREATED:20190906T143834Z
LAST-MODIFIED:20200107T215856Z
UID:2329-1579824000-1579910399@ble.mn.gov
SUMMARY:Board of Law Examiners public meeting
DESCRIPTION:Board meeting to be held in Board office on 1/24/20 at approximately 10:30 a.m. Visit the Board Information page for more details.
URL:https://ble.mn.gov/event/board-of-law-examiners-public-meeting-40/
END:VEVENT
BEGIN:VEVENT
DTSTART;VALUE=DATE:20200120
DTEND;VALUE=DATE:20200121
DTSTAMP:20260419T181923
CREATED:20200117T180112Z
LAST-MODIFIED:20200117T180112Z
UID:2539-1579478400-1579564799@ble.mn.gov
SUMMARY:Office closed
DESCRIPTION:
URL:https://ble.mn.gov/event/office-closed-39/
END:VEVENT
BEGIN:VEVENT
DTSTART;VALUE=DATE:20200101
DTEND;VALUE=DATE:20200102
DTSTAMP:20260419T181923
CREATED:20190906T135641Z
LAST-MODIFIED:20190906T135641Z
UID:2299-1577836800-1577923199@ble.mn.gov
SUMMARY:Office closed
DESCRIPTION:
URL:https://ble.mn.gov/event/office-closed-30/
END:VEVENT
BEGIN:VEVENT
DTSTART;VALUE=DATE:20191231
DTEND;VALUE=DATE:20200101
DTSTAMP:20260419T181923
CREATED:20181102T200732Z
LAST-MODIFIED:20181102T200732Z
UID:1901-1577750400-1577836799@ble.mn.gov
SUMMARY:Office hours 12/31/19 are 7:30 a.m. to 4:00 p.m.
DESCRIPTION:
URL:https://ble.mn.gov/event/office-hours-12-31-19-are-730-a-m-to-400-p-m/
END:VEVENT
BEGIN:VEVENT
DTSTART;VALUE=DATE:20191225
DTEND;VALUE=DATE:20191226
DTSTAMP:20260419T181923
CREATED:20181102T191843Z
LAST-MODIFIED:20181102T191843Z
UID:1895-1577232000-1577318399@ble.mn.gov
SUMMARY:Office closed
DESCRIPTION:
URL:https://ble.mn.gov/event/office-closed-29/
END:VEVENT
BEGIN:VEVENT
DTSTART;VALUE=DATE:20191224
DTEND;VALUE=DATE:20191225
DTSTAMP:20260419T181923
CREATED:20181102T200701Z
LAST-MODIFIED:20181102T200701Z
UID:1899-1577145600-1577231999@ble.mn.gov
SUMMARY:Office hours 12/24/19 are 7:30 a.m. to 4:00 p.m.
DESCRIPTION:
URL:https://ble.mn.gov/event/office-hours-12-24-19-are-730-a-m-to-400-p-m/
END:VEVENT
BEGIN:VEVENT
DTSTART;VALUE=DATE:20191211
DTEND;VALUE=DATE:20191212
DTSTAMP:20260419T181923
CREATED:20181102T012812Z
LAST-MODIFIED:20191118T141647Z
UID:1856-1576022400-1576108799@ble.mn.gov
SUMMARY:Board of Law Examiners public meeting
DESCRIPTION:Board meeting to be held in Board office on 12/11/19 at 8:00 a.m.. Visit the Board Information page for more details.
URL:https://ble.mn.gov/event/board-of-law-examiners-public-meeting-39/
END:VEVENT
BEGIN:VEVENT
DTSTART;VALUE=DATE:20191202
DTEND;VALUE=DATE:20191203
DTSTAMP:20260419T181923
CREATED:20181102T185635Z
LAST-MODIFIED:20181102T185635Z
UID:1877-1575244800-1575331199@ble.mn.gov
SUMMARY:February 2020 Bar Exam Application Late Filing Deadline
DESCRIPTION:The February 2020 bar exam late filing deadline is 12/2/19 (postmarks are accepted).
URL:https://ble.mn.gov/event/february-2020-bar-exam-application-late-filing-deadline/
END:VEVENT
BEGIN:VEVENT
DTSTART;VALUE=DATE:20191129
DTEND;VALUE=DATE:20191130
DTSTAMP:20260419T181923
CREATED:20181102T191801Z
LAST-MODIFIED:20181102T191801Z
UID:1891-1574985600-1575071999@ble.mn.gov
SUMMARY:Office closed
DESCRIPTION:
URL:https://ble.mn.gov/event/office-closed-27/
END:VEVENT
BEGIN:VEVENT
DTSTART;VALUE=DATE:20191128
DTEND;VALUE=DATE:20191129
DTSTAMP:20260419T181923
CREATED:20181102T191743Z
LAST-MODIFIED:20181102T191743Z
UID:1889-1574899200-1574985599@ble.mn.gov
SUMMARY:Office closed
DESCRIPTION:
URL:https://ble.mn.gov/event/office-closed-26/
END:VEVENT
BEGIN:VEVENT
DTSTART;VALUE=DATE:20191127
DTEND;VALUE=DATE:20191128
DTSTAMP:20260419T181923
CREATED:20181102T200633Z
LAST-MODIFIED:20181102T200633Z
UID:1897-1574812800-1574899199@ble.mn.gov
SUMMARY:Office hours 11/27/19 are 7:30 a.m. to 4:00 p.m.
DESCRIPTION:
URL:https://ble.mn.gov/event/office-hours-11-27-19-are-730-a-m-to-400-p-m/
END:VEVENT
BEGIN:VEVENT
DTSTART;VALUE=DATE:20191115
DTEND;VALUE=DATE:20191116
DTSTAMP:20260419T181923
CREATED:20181102T012739Z
LAST-MODIFIED:20191029T192743Z
UID:1854-1573776000-1573862399@ble.mn.gov
SUMMARY:Board of Law Examiners public meeting
DESCRIPTION:Board meeting to be held in Board office on 11/15/19 at 8:30 a.m. Visit the Board Information page for more details.
URL:https://ble.mn.gov/event/board-of-law-examiners-public-meeting-38/
END:VEVENT
BEGIN:VEVENT
DTSTART;VALUE=DATE:20191111
DTEND;VALUE=DATE:20191112
DTSTAMP:20260419T181923
CREATED:20181102T191821Z
LAST-MODIFIED:20181102T191821Z
UID:1893-1573430400-1573516799@ble.mn.gov
SUMMARY:Office closed
DESCRIPTION:
URL:https://ble.mn.gov/event/office-closed-28/
END:VEVENT
BEGIN:VEVENT
DTSTART;VALUE=DATE:20191025
DTEND;VALUE=DATE:20191026
DTSTAMP:20260419T181923
CREATED:20181102T013706Z
LAST-MODIFIED:20181102T013706Z
UID:1869-1571961600-1572047999@ble.mn.gov
SUMMARY:July 2019 Bar Exam Admission Ceremony – for those who sat and were successful on the July 2019 Bar Exam
DESCRIPTION:Visit the Bar Admission Ceremony page for details.
URL:https://ble.mn.gov/event/july-2019-bar-exam-admission-ceremony-for-those-who-sat-and-were-successful-on-the-july-2019-bar-exam/
END:VEVENT
BEGIN:VEVENT
DTSTART;VALUE=DATE:20191015
DTEND;VALUE=DATE:20191016
DTSTAMP:20260419T181923
CREATED:20181102T185535Z
LAST-MODIFIED:20181102T213226Z
UID:1875-1571097600-1571183999@ble.mn.gov
SUMMARY:February 2020 Bar Exam Application Timely Filing Deadline
DESCRIPTION:The February 2020 bar exam timely filing deadline is 10/15/19 (postmarks are accepted).
URL:https://ble.mn.gov/event/february-2020-bar-exam-application-timely-filing-deadline/
END:VEVENT
BEGIN:VEVENT
DTSTART;VALUE=DATE:20191004
DTEND;VALUE=DATE:20191005
DTSTAMP:20260419T181923
CREATED:20181102T012628Z
LAST-MODIFIED:20190829T131544Z
UID:1852-1570147200-1570233599@ble.mn.gov
SUMMARY:Board of Law Examiners public meeting
DESCRIPTION:Board meeting to be held in Board office on 10/4/19 at 8:30 a.m. Visit the Board Information page for more details.
URL:https://ble.mn.gov/event/board-of-law-examiners-public-meeting-37/
END:VEVENT
BEGIN:VEVENT
DTSTART;VALUE=DATE:20190902
DTEND;VALUE=DATE:20190903
DTSTAMP:20260419T181923
CREATED:20190906T140007Z
LAST-MODIFIED:20190906T141050Z
UID:2307-1567382400-1567468799@ble.mn.gov
SUMMARY:Office closed
DESCRIPTION:
URL:https://ble.mn.gov/event/office-closed-34/
END:VEVENT
BEGIN:VEVENT
DTSTART;VALUE=DATE:20190902
DTEND;VALUE=DATE:20190903
DTSTAMP:20260419T181923
CREATED:20181102T191727Z
LAST-MODIFIED:20181102T191727Z
UID:1887-1567382400-1567468799@ble.mn.gov
SUMMARY:Office closed
DESCRIPTION:
URL:https://ble.mn.gov/event/office-closed-25/
END:VEVENT
BEGIN:VEVENT
DTSTART;VALUE=DATE:20190821
DTEND;VALUE=DATE:20190822
DTSTAMP:20260419T181923
CREATED:20181102T012544Z
LAST-MODIFIED:20190820T195508Z
UID:1850-1566345600-1566431999@ble.mn.gov
SUMMARY:Board of Law Examiners public meeting
DESCRIPTION:Board meeting to be held in Board office on 8/21/19 at 1:30 p.m. Visit the Board Information page for more details.
URL:https://ble.mn.gov/event/board-of-law-examiners-public-meeting-36/
END:VEVENT
END:VCALENDAR