BEGIN:VCALENDAR
VERSION:2.0
PRODID:-//Minnesota State Board of Law Examiners - ECPv6.15.20//NONSGML v1.0//EN
CALSCALE:GREGORIAN
METHOD:PUBLISH
X-ORIGINAL-URL:https://ble.mn.gov
X-WR-CALDESC:Events for Minnesota State Board of Law Examiners
REFRESH-INTERVAL;VALUE=DURATION:PT1H
X-Robots-Tag:noindex
X-PUBLISHED-TTL:PT1H
BEGIN:VTIMEZONE
TZID:America/Chicago
BEGIN:DAYLIGHT
TZOFFSETFROM:-0600
TZOFFSETTO:-0500
TZNAME:CDT
DTSTART:20190310T080000
END:DAYLIGHT
BEGIN:STANDARD
TZOFFSETFROM:-0500
TZOFFSETTO:-0600
TZNAME:CST
DTSTART:20191103T070000
END:STANDARD
BEGIN:DAYLIGHT
TZOFFSETFROM:-0600
TZOFFSETTO:-0500
TZNAME:CDT
DTSTART:20200308T080000
END:DAYLIGHT
BEGIN:STANDARD
TZOFFSETFROM:-0500
TZOFFSETTO:-0600
TZNAME:CST
DTSTART:20201101T070000
END:STANDARD
BEGIN:DAYLIGHT
TZOFFSETFROM:-0600
TZOFFSETTO:-0500
TZNAME:CDT
DTSTART:20210314T080000
END:DAYLIGHT
BEGIN:STANDARD
TZOFFSETFROM:-0500
TZOFFSETTO:-0600
TZNAME:CST
DTSTART:20211107T070000
END:STANDARD
BEGIN:DAYLIGHT
TZOFFSETFROM:-0600
TZOFFSETTO:-0500
TZNAME:CDT
DTSTART:20220313T080000
END:DAYLIGHT
BEGIN:STANDARD
TZOFFSETFROM:-0500
TZOFFSETTO:-0600
TZNAME:CST
DTSTART:20221106T070000
END:STANDARD
END:VTIMEZONE
BEGIN:VEVENT
DTSTART;VALUE=DATE:20210507
DTEND;VALUE=DATE:20210508
DTSTAMP:20260425T105804
CREATED:20201019T181302Z
LAST-MODIFIED:20201019T181302Z
UID:3095-1620345600-1620431999@ble.mn.gov
SUMMARY:February 2021 Bar Exam Admission Ceremony – for those who sat and were successful on the February 2021 Bar Exam
DESCRIPTION:Visit the Bar Admission Ceremony page for details.
URL:https://ble.mn.gov/event/february-2021-bar-exam-admission-ceremony-for-those-who-sat-and-were-successful-on-the-february-2021-bar-exam/
END:VEVENT
BEGIN:VEVENT
DTSTART;VALUE=DATE:20210503
DTEND;VALUE=DATE:20210504
DTSTAMP:20260425T105804
CREATED:20201019T180636Z
LAST-MODIFIED:20201019T180636Z
UID:3087-1620000000-1620086399@ble.mn.gov
SUMMARY:July 2021 Bar Exam Application Late Filing Deadline
DESCRIPTION:The July 2021 bar exam late filing deadline is 5/3/21 (postmarks are accepted).
URL:https://ble.mn.gov/event/july-2021-bar-exam-application-late-filing-deadline/
END:VEVENT
BEGIN:VEVENT
DTSTART;VALUE=DATE:20210414
DTEND;VALUE=DATE:20210415
DTSTAMP:20260425T105804
CREATED:20201019T181906Z
LAST-MODIFIED:20210406T012742Z
UID:3101-1618358400-1618444799@ble.mn.gov
SUMMARY:Board of Law Examiners Public Meeting
DESCRIPTION:Board meeting to be held on 4/14/21 at 8:30 a.m. Please contact the Board office for more information if you plan to attend. Visit the Board Information page for more details.
URL:https://ble.mn.gov/event/board-of-law-examiners-public-meeting-51/
END:VEVENT
BEGIN:VEVENT
DTSTART;VALUE=DATE:20210319
DTEND;VALUE=DATE:20210320
DTSTAMP:20260425T105804
CREATED:20201019T181801Z
LAST-MODIFIED:20201019T181801Z
UID:3099-1616112000-1616198399@ble.mn.gov
SUMMARY:Board of Law Examiners Public Meeting
DESCRIPTION:Board meeting to be held on 3/19/21. Time TBD. Please contact the Board office for more information if you plan to attend. Visit the Board Information page for more details.
URL:https://ble.mn.gov/event/board-of-law-examiners-public-meeting-50/
END:VEVENT
BEGIN:VEVENT
DTSTART;VALUE=DATE:20210315
DTEND;VALUE=DATE:20210316
DTSTAMP:20260425T105804
CREATED:20201019T180515Z
LAST-MODIFIED:20201019T180515Z
UID:3085-1615766400-1615852799@ble.mn.gov
SUMMARY:July 2021 Bar Exam Application Timely Filing Deadline
DESCRIPTION:The July 2021 bar exam timely filing deadline is 3/15/21 (postmarks are accepted).
URL:https://ble.mn.gov/event/july-2021-bar-exam-application-timely-filing-deadline/
END:VEVENT
BEGIN:VEVENT
DTSTART;VALUE=DATE:20210224
DTEND;VALUE=DATE:20210225
DTSTAMP:20260425T105804
CREATED:20201019T175643Z
LAST-MODIFIED:20201019T180027Z
UID:3075-1614124800-1614211199@ble.mn.gov
SUMMARY:Bar Exam
DESCRIPTION:Visit the February 2021 exam page for more information. \n 
URL:https://ble.mn.gov/event/bar-exam-14/
END:VEVENT
BEGIN:VEVENT
DTSTART;VALUE=DATE:20210223
DTEND;VALUE=DATE:20210224
DTSTAMP:20260425T105804
CREATED:20201019T175607Z
LAST-MODIFIED:20201019T180004Z
UID:3073-1614038400-1614124799@ble.mn.gov
SUMMARY:Bar Exam
DESCRIPTION:Visit the February 2021 exam page for more information.
URL:https://ble.mn.gov/event/bar-exam-13/
END:VEVENT
BEGIN:VEVENT
DTSTART;VALUE=DATE:20210215
DTEND;VALUE=DATE:20210216
DTSTAMP:20260425T105804
CREATED:20201019T183151Z
LAST-MODIFIED:20201019T183151Z
UID:3127-1613347200-1613433599@ble.mn.gov
SUMMARY:Office Closed
DESCRIPTION:
URL:https://ble.mn.gov/event/office-closed-44/
END:VEVENT
BEGIN:VEVENT
DTSTART;VALUE=DATE:20210122
DTEND;VALUE=DATE:20210123
DTSTAMP:20260425T105804
CREATED:20201019T181655Z
LAST-MODIFIED:20201019T181655Z
UID:3097-1611273600-1611359999@ble.mn.gov
SUMMARY:Board of Law Examiners Public Meeting
DESCRIPTION:Board meeting to be held on 1/22/21. Time TBD. Please contact the Board office for more information if you plan to attend. Visit the Board Information page for more details.
URL:https://ble.mn.gov/event/board-of-law-examiners-public-meeting-49/
END:VEVENT
BEGIN:VEVENT
DTSTART;VALUE=DATE:20210118
DTEND;VALUE=DATE:20210119
DTSTAMP:20260425T105804
CREATED:20201019T182943Z
LAST-MODIFIED:20201019T182943Z
UID:3121-1610928000-1611014399@ble.mn.gov
SUMMARY:Office Closed
DESCRIPTION:
URL:https://ble.mn.gov/event/office-closed-41/
END:VEVENT
BEGIN:VEVENT
DTSTART;VALUE=DATE:20210101
DTEND;VALUE=DATE:20210102
DTSTAMP:20260425T105804
CREATED:20201019T182912Z
LAST-MODIFIED:20201019T182912Z
UID:3119-1609459200-1609545599@ble.mn.gov
SUMMARY:Office Closed
DESCRIPTION:
URL:https://ble.mn.gov/event/office-closed-40/
END:VEVENT
BEGIN:VEVENT
DTSTART;VALUE=DATE:20201231
DTEND;VALUE=DATE:20210101
DTSTAMP:20260425T105804
CREATED:20190906T142336Z
LAST-MODIFIED:20190906T142336Z
UID:2327-1609372800-1609459199@ble.mn.gov
SUMMARY:Office hours 12/31/20 are 7:30 a.m. to 4:00 p.m.
DESCRIPTION:
URL:https://ble.mn.gov/event/office-hours-12-31-20-are-730-a-m-to-400-p-m/
END:VEVENT
BEGIN:VEVENT
DTSTART;VALUE=DATE:20201225
DTEND;VALUE=DATE:20201226
DTSTAMP:20260425T105804
CREATED:20190906T140200Z
LAST-MODIFIED:20190906T140200Z
UID:2315-1608854400-1608940799@ble.mn.gov
SUMMARY:Office closed
DESCRIPTION:
URL:https://ble.mn.gov/event/office-closed-38/
END:VEVENT
BEGIN:VEVENT
DTSTART;VALUE=DATE:20201224
DTEND;VALUE=DATE:20201225
DTSTAMP:20260425T105804
CREATED:20190906T140239Z
LAST-MODIFIED:20201221T152527Z
UID:2317-1608768000-1608854399@ble.mn.gov
SUMMARY:Office Closed
DESCRIPTION:
URL:https://ble.mn.gov/event/office-hours-12-24-20-are-730-a-m-to-400-p-m/
END:VEVENT
BEGIN:VEVENT
DTSTART;VALUE=DATE:20201204
DTEND;VALUE=DATE:20201205
DTSTAMP:20260425T105804
CREATED:20190906T144457Z
LAST-MODIFIED:20201105T141506Z
UID:2345-1607040000-1607126399@ble.mn.gov
SUMMARY:Board of Law Examiners public meeting
DESCRIPTION:Board meeting to be held in via Zoom on 12/4/20 at 8:30 a.m.. Please contact the Board office for more information if you plan to attend. Visit the Board Information page for more details.
URL:https://ble.mn.gov/event/board-of-law-examiners-public-meeting-48/
END:VEVENT
BEGIN:VEVENT
DTSTART;VALUE=DATE:20201201
DTEND;VALUE=DATE:20201202
DTSTAMP:20260425T105804
CREATED:20190906T151757Z
LAST-MODIFIED:20190906T151757Z
UID:2366-1606780800-1606867199@ble.mn.gov
SUMMARY:February 2021 Bar Exam Application Late Filing Deadline
DESCRIPTION:The February 2021 bar exam late filing deadline is 12/1/20 (postmarks are accepted).
URL:https://ble.mn.gov/event/february-2021-bar-exam-application-late-filing-deadline/
END:VEVENT
BEGIN:VEVENT
DTSTART;VALUE=DATE:20201127
DTEND;VALUE=DATE:20201128
DTSTAMP:20260425T105804
CREATED:20190906T140136Z
LAST-MODIFIED:20190906T140136Z
UID:2313-1606435200-1606521599@ble.mn.gov
SUMMARY:Office closed
DESCRIPTION:
URL:https://ble.mn.gov/event/office-closed-37/
END:VEVENT
BEGIN:VEVENT
DTSTART;VALUE=DATE:20201126
DTEND;VALUE=DATE:20201127
DTSTAMP:20260425T105804
CREATED:20190906T140107Z
LAST-MODIFIED:20190906T140107Z
UID:2311-1606348800-1606435199@ble.mn.gov
SUMMARY:Office closed
DESCRIPTION:
URL:https://ble.mn.gov/event/office-closed-36/
END:VEVENT
BEGIN:VEVENT
DTSTART;VALUE=DATE:20201125
DTEND;VALUE=DATE:20201126
DTSTAMP:20260425T105804
CREATED:20190906T140322Z
LAST-MODIFIED:20190906T140322Z
UID:2319-1606262400-1606348799@ble.mn.gov
SUMMARY:Office hours 11/25/20 are 7:30 a.m. to 4:00 p.m.
DESCRIPTION:
URL:https://ble.mn.gov/event/office-hours-11-25-20-are-730-a-m-to-400-p-m/
END:VEVENT
BEGIN:VEVENT
DTSTART;VALUE=DATE:20201111
DTEND;VALUE=DATE:20201112
DTSTAMP:20260425T105804
CREATED:20190906T140041Z
LAST-MODIFIED:20190906T140041Z
UID:2309-1605052800-1605139199@ble.mn.gov
SUMMARY:Office closed
DESCRIPTION:
URL:https://ble.mn.gov/event/office-closed-35/
END:VEVENT
BEGIN:VEVENT
DTSTART;VALUE=DATE:20201110
DTEND;VALUE=DATE:20201111
DTSTAMP:20260425T105804
CREATED:20190906T140349Z
LAST-MODIFIED:20190906T140349Z
UID:2321-1604966400-1605052799@ble.mn.gov
SUMMARY:Office hours 11/10/20 are 7:30 a.m. to 4:00 p.m.
DESCRIPTION:
URL:https://ble.mn.gov/event/office-hours-11-10-20-are-730-a-m-to-400-p-m/
END:VEVENT
BEGIN:VEVENT
DTSTART;VALUE=DATE:20201104
DTEND;VALUE=DATE:20201105
DTSTAMP:20260425T105804
CREATED:20190906T144413Z
LAST-MODIFIED:20201005T140534Z
UID:2343-1604448000-1604534399@ble.mn.gov
SUMMARY:Board of Law Examiners public meeting
DESCRIPTION:Board meeting to be held via Zoom on 11/4/20 at 8:30 a.m.. Please contact the Board office for more information if you plan to attend. Visit the Board Information page for more details.
URL:https://ble.mn.gov/event/board-of-law-examiners-public-meeting-47/
END:VEVENT
BEGIN:VEVENT
DTSTART;VALUE=DATE:20201030
DTEND;VALUE=DATE:20201031
DTSTAMP:20260425T105804
CREATED:20190906T151256Z
LAST-MODIFIED:20190906T151256Z
UID:2362-1604016000-1604102399@ble.mn.gov
SUMMARY:July 2020 Bar Exam Admission Ceremony – for those who sat and were successful on the July 2020 Bar Exam
DESCRIPTION:Visit the Bar Admission Ceremony page for details.
URL:https://ble.mn.gov/event/july-2020-bar-exam-admission-ceremony-for-those-who-sat-and-were-successful-on-the-july-2020-bar-exam/
END:VEVENT
BEGIN:VEVENT
DTSTART;VALUE=DATE:20201015
DTEND;VALUE=DATE:20201016
DTSTAMP:20260425T105804
CREATED:20190906T151636Z
LAST-MODIFIED:20190906T151636Z
UID:2364-1602720000-1602806399@ble.mn.gov
SUMMARY:February 2021 Bar Exam Application Timely Filing Deadline
DESCRIPTION:The February 2021 bar exam timely filing deadline is 10/15/20 (postmarks are accepted).
URL:https://ble.mn.gov/event/february-2021-bar-exam-application-timely-filing-deadline/
END:VEVENT
BEGIN:VEVENT
DTSTART;VALUE=DATE:20201002
DTEND;VALUE=DATE:20201003
DTSTAMP:20260425T105804
CREATED:20190906T144326Z
LAST-MODIFIED:20200918T141613Z
UID:2341-1601596800-1601683199@ble.mn.gov
SUMMARY:Board of Law Examiners public meeting
DESCRIPTION:Board meeting to be held via Zoom on 10/2/20 at 8:30a.m. Please contact the Board office for more information if you plan to attend. Visit the Board Information page for more details.
URL:https://ble.mn.gov/event/board-of-law-examiners-public-meeting-46/
END:VEVENT
BEGIN:VEVENT
DTSTART;VALUE=DATE:20200819
DTEND;VALUE=DATE:20200820
DTSTAMP:20260425T105804
CREATED:20190906T144246Z
LAST-MODIFIED:20200622T154247Z
UID:2339-1597795200-1597881599@ble.mn.gov
SUMMARY:Board of Law Examiners public meeting
DESCRIPTION:Board meeting to be held in Board office on 8/19/20 at 8 A.M. Visit the Board Information page for more details.
URL:https://ble.mn.gov/event/board-of-law-examiners-public-meeting-45/
END:VEVENT
BEGIN:VEVENT
DTSTART;VALUE=DATE:20200729
DTEND;VALUE=DATE:20200730
DTSTAMP:20260425T105804
CREATED:20190906T150609Z
LAST-MODIFIED:20190906T150609Z
UID:2354-1595980800-1596067199@ble.mn.gov
SUMMARY:Bar Exam
DESCRIPTION:Bar exam. Visit the July 2020 Exam page for more details.
URL:https://ble.mn.gov/event/bar-exam-12/
END:VEVENT
BEGIN:VEVENT
DTSTART;VALUE=DATE:20200728
DTEND;VALUE=DATE:20200729
DTSTAMP:20260425T105804
CREATED:20190906T150549Z
LAST-MODIFIED:20190906T150549Z
UID:2352-1595894400-1595980799@ble.mn.gov
SUMMARY:Bar Exam
DESCRIPTION:Bar exam. Visit the July 2020 Exam page for more details.
URL:https://ble.mn.gov/event/bar-exam-11/
END:VEVENT
BEGIN:VEVENT
DTSTART;VALUE=DATE:20200703
DTEND;VALUE=DATE:20200704
DTSTAMP:20260425T105804
CREATED:20190906T135905Z
LAST-MODIFIED:20190906T135905Z
UID:2305-1593734400-1593820799@ble.mn.gov
SUMMARY:Office closed
DESCRIPTION:
URL:https://ble.mn.gov/event/office-closed-33/
END:VEVENT
BEGIN:VEVENT
DTSTART;VALUE=DATE:20200702
DTEND;VALUE=DATE:20200703
DTSTAMP:20260425T105804
CREATED:20190906T140420Z
LAST-MODIFIED:20190906T140420Z
UID:2323-1593648000-1593734399@ble.mn.gov
SUMMARY:Office hours 7/2/20 are 7:30 a.m. to 4:00 p.m.
DESCRIPTION:
URL:https://ble.mn.gov/event/office-hours-7-2-20-are-730-a-m-to-400-p-m/
END:VEVENT
END:VCALENDAR