BEGIN:VCALENDAR
VERSION:2.0
PRODID:-//Minnesota State Board of Law Examiners - ECPv6.15.20//NONSGML v1.0//EN
CALSCALE:GREGORIAN
METHOD:PUBLISH
X-ORIGINAL-URL:https://ble.mn.gov
X-WR-CALDESC:Events for Minnesota State Board of Law Examiners
REFRESH-INTERVAL;VALUE=DURATION:PT1H
X-Robots-Tag:noindex
X-PUBLISHED-TTL:PT1H
BEGIN:VTIMEZONE
TZID:UTC
BEGIN:STANDARD
TZOFFSETFROM:+0000
TZOFFSETTO:+0000
TZNAME:UTC
DTSTART:20180101T000000
END:STANDARD
END:VTIMEZONE
BEGIN:VEVENT
DTSTART;VALUE=DATE:20190517
DTEND;VALUE=DATE:20190518
DTSTAMP:20260425T065737
CREATED:20181102T012407Z
LAST-MODIFIED:20190515T160130Z
UID:1845-1558051200-1558137599@ble.mn.gov
SUMMARY:Board of Law Examiners public meeting
DESCRIPTION:Board meeting to be held in Board office on 5/17/19 at 8:30 A.M. Visit the Board Information page for more details.
URL:https://ble.mn.gov/event/board-of-law-examiners-public-meeting-34/
END:VEVENT
END:VCALENDAR