BEGIN:VCALENDAR
VERSION:2.0
PRODID:-//Minnesota State Board of Law Examiners - ECPv6.15.20//NONSGML v1.0//EN
CALSCALE:GREGORIAN
METHOD:PUBLISH
X-ORIGINAL-URL:https://ble.mn.gov
X-WR-CALDESC:Events for Minnesota State Board of Law Examiners
REFRESH-INTERVAL;VALUE=DURATION:PT1H
X-Robots-Tag:noindex
X-PUBLISHED-TTL:PT1H
BEGIN:VTIMEZONE
TZID:UTC
BEGIN:STANDARD
TZOFFSETFROM:+0000
TZOFFSETTO:+0000
TZNAME:UTC
DTSTART:20170101T000000
END:STANDARD
END:VTIMEZONE
BEGIN:VEVENT
DTSTART;VALUE=DATE:20181026
DTEND;VALUE=DATE:20181027
DTSTAMP:20260425T150242
CREATED:20171012T183340Z
LAST-MODIFIED:20171012T183340Z
UID:1383-1540512000-1540598399@ble.mn.gov
SUMMARY:July 2018 Bar Exam Admission Ceremony – for those who sat and were successful on the July 2018 bar exam
DESCRIPTION:Visit the Bar Admission Ceremony page for details.
URL:https://ble.mn.gov/event/july-2018-bar-exam-admission-ceremony-for-those-who-sat-and-were-successful-on-the-july-2018-bar-exam/
END:VEVENT
END:VCALENDAR