BEGIN:VCALENDAR
VERSION:2.0
PRODID:-//Minnesota State Board of Law Examiners - ECPv6.15.20//NONSGML v1.0//EN
CALSCALE:GREGORIAN
METHOD:PUBLISH
X-ORIGINAL-URL:https://ble.mn.gov
X-WR-CALDESC:Events for Minnesota State Board of Law Examiners
REFRESH-INTERVAL;VALUE=DURATION:PT1H
X-Robots-Tag:noindex
X-PUBLISHED-TTL:PT1H
BEGIN:VTIMEZONE
TZID:UTC
BEGIN:STANDARD
TZOFFSETFROM:+0000
TZOFFSETTO:+0000
TZNAME:UTC
DTSTART:20160101T000000
END:STANDARD
END:VTIMEZONE
BEGIN:VEVENT
DTSTART;VALUE=DATE:20170221
DTEND;VALUE=DATE:20170223
DTSTAMP:20260425T131651
CREATED:20161026T233138Z
LAST-MODIFIED:20161026T233138Z
UID:943-1487635200-1487807999@ble.mn.gov
SUMMARY:February 2017 Bar Exam
DESCRIPTION:Visit the February 2017 Bar Exam page for more information.
URL:https://ble.mn.gov/event/february-2017-bar-exam/
END:VEVENT
END:VCALENDAR