BEGIN:VCALENDAR
VERSION:2.0
PRODID:-//Minnesota State Board of Law Examiners - ECPv6.15.20//NONSGML v1.0//EN
CALSCALE:GREGORIAN
METHOD:PUBLISH
X-ORIGINAL-URL:https://ble.mn.gov
X-WR-CALDESC:Events for Minnesota State Board of Law Examiners
REFRESH-INTERVAL;VALUE=DURATION:PT1H
X-Robots-Tag:noindex
X-PUBLISHED-TTL:PT1H
BEGIN:VTIMEZONE
TZID:UTC
BEGIN:STANDARD
TZOFFSETFROM:+0000
TZOFFSETTO:+0000
TZNAME:UTC
DTSTART:20170101T000000
END:STANDARD
END:VTIMEZONE
BEGIN:VEVENT
DTSTART;VALUE=DATE:20180724
DTEND;VALUE=DATE:20180726
DTSTAMP:20260424T200040
CREATED:20171012T181732Z
LAST-MODIFIED:20171012T181732Z
UID:1340-1532390400-1532563199@ble.mn.gov
SUMMARY:Bar exam
DESCRIPTION:Bar exam. Visit the July 2018 Exam page for more details.
URL:https://ble.mn.gov/event/bar-exam-4/
END:VEVENT
END:VCALENDAR